BEGIN:VCALENDAR
VERSION:2.0
PRODID:-//Legacy Line Laser - ECPv6.15.20//NONSGML v1.0//EN
CALSCALE:GREGORIAN
METHOD:PUBLISH
X-WR-CALNAME:Legacy Line Laser
X-ORIGINAL-URL:https://jhornb.profreed.com
X-WR-CALDESC:Events for Legacy Line Laser
REFRESH-INTERVAL;VALUE=DURATION:PT1H
X-Robots-Tag:noindex
X-PUBLISHED-TTL:PT1H
BEGIN:VTIMEZONE
TZID:America/Los_Angeles
BEGIN:DAYLIGHT
TZOFFSETFROM:-0800
TZOFFSETTO:-0700
TZNAME:PDT
DTSTART:20250309T100000
END:DAYLIGHT
BEGIN:STANDARD
TZOFFSETFROM:-0700
TZOFFSETTO:-0800
TZNAME:PST
DTSTART:20251102T090000
END:STANDARD
BEGIN:DAYLIGHT
TZOFFSETFROM:-0800
TZOFFSETTO:-0700
TZNAME:PDT
DTSTART:20260308T100000
END:DAYLIGHT
BEGIN:STANDARD
TZOFFSETFROM:-0700
TZOFFSETTO:-0800
TZNAME:PST
DTSTART:20261101T090000
END:STANDARD
BEGIN:DAYLIGHT
TZOFFSETFROM:-0800
TZOFFSETTO:-0700
TZNAME:PDT
DTSTART:20270314T100000
END:DAYLIGHT
BEGIN:STANDARD
TZOFFSETFROM:-0700
TZOFFSETTO:-0800
TZNAME:PST
DTSTART:20271107T090000
END:STANDARD
END:VTIMEZONE
BEGIN:VEVENT
DTSTART;TZID=America/Los_Angeles:20260501T080000
DTEND;TZID=America/Los_Angeles:20260501T170000
DTSTAMP:20260419T143001
CREATED:20260415T032908Z
LAST-MODIFIED:20260415T033745Z
UID:92-1777622400-1777654800@jhornb.profreed.com
SUMMARY:“Bid Day Custom Drop” Event
DESCRIPTION:A limited-time event during Bid Day where new members can get rushed gifts engraved on the spot—like Greek letters\, class year\, or sorority/fraternity symbols on gifts and accessories.
URL:https://jhornb.profreed.com/event/bid-day-custom-drop-event/
END:VEVENT
BEGIN:VEVENT
DTSTART;TZID=America/Los_Angeles:20260503T080000
DTEND;TZID=America/Los_Angeles:20260503T170000
DTSTAMP:20260419T143001
CREATED:20260415T032942Z
LAST-MODIFIED:20260415T034009Z
UID:94-1777795200-1777827600@jhornb.profreed.com
SUMMARY:“Senior Sendoff Memory Maker Pop-Up”
DESCRIPTION:A campus pop-up during Senior sendoff where chapters can bring group items (plaques\, paddles\, or event trophies) to be engraved with their achievements\, slogans\, or event names.
URL:https://jhornb.profreed.com/event/greek-week-memory-maker-pop-up/
END:VEVENT
BEGIN:VEVENT
DTSTART;TZID=America/Los_Angeles:20260505T080000
DTEND;TZID=America/Los_Angeles:20260505T170000
DTSTAMP:20260419T143001
CREATED:20260415T032834Z
LAST-MODIFIED:20260415T033831Z
UID:90-1777968000-1778000400@jhornb.profreed.com
SUMMARY:“Engrave Your Legacy” Kickoff Event
DESCRIPTION:A launch-style event where students can bring in personal items like paddles\, tumblers\, keychains\, or plaques to be custom engraved with their name\, chapter letters\, or meaningful dates. Perfect for showcasing Greek pride and personalization.
URL:https://jhornb.profreed.com/event/engrave-your-legacy-kickoff-event/
END:VEVENT
END:VCALENDAR